BEGIN:VCALENDAR
VERSION:2.0
PRODID:-//PJW Meters - ECPv6.15.20//NONSGML v1.0//EN
CALSCALE:GREGORIAN
METHOD:PUBLISH
X-ORIGINAL-URL:https://pjwmeters.com
X-WR-CALDESC:Events for PJW Meters
REFRESH-INTERVAL;VALUE=DURATION:PT1H
X-Robots-Tag:noindex
X-PUBLISHED-TTL:PT1H
BEGIN:VTIMEZONE
TZID:Europe/London
BEGIN:DAYLIGHT
TZOFFSETFROM:+0000
TZOFFSETTO:+0100
TZNAME:BST
DTSTART:20240331T010000
END:DAYLIGHT
BEGIN:STANDARD
TZOFFSETFROM:+0100
TZOFFSETTO:+0000
TZNAME:GMT
DTSTART:20241027T010000
END:STANDARD
BEGIN:DAYLIGHT
TZOFFSETFROM:+0000
TZOFFSETTO:+0100
TZNAME:BST
DTSTART:20250330T010000
END:DAYLIGHT
BEGIN:STANDARD
TZOFFSETFROM:+0100
TZOFFSETTO:+0000
TZNAME:GMT
DTSTART:20251026T010000
END:STANDARD
BEGIN:DAYLIGHT
TZOFFSETFROM:+0000
TZOFFSETTO:+0100
TZNAME:BST
DTSTART:20260329T010000
END:DAYLIGHT
BEGIN:STANDARD
TZOFFSETFROM:+0100
TZOFFSETTO:+0000
TZNAME:GMT
DTSTART:20261025T010000
END:STANDARD
END:VTIMEZONE
BEGIN:VEVENT
DTSTART;TZID=Europe/London:20250418T090000
DTEND;TZID=Europe/London:20250418T110000
DTSTAMP:20260424T204014
CREATED:20250118T135441Z
LAST-MODIFIED:20250118T135441Z
UID:6105-1744966800-1744974000@pjwmeters.com
SUMMARY:Property\, Investment\, Construction and Trade Networking Event - Newton Abbot
DESCRIPTION:
URL:https://pjwmeters.com/event/property-investment-construction-and-trade-networking-event-newton-abbot-3/
LOCATION:Dainton Park Golf Club\, Totnes Road\, Ipplepen\, Newton Abbot\, TQ12 5TN\, United Kingdom
END:VEVENT
BEGIN:VEVENT
DTSTART;TZID=Europe/London:20250324T090000
DTEND;TZID=Europe/London:20250324T103000
DTSTAMP:20260424T204014
CREATED:20250118T142231Z
LAST-MODIFIED:20250118T142231Z
UID:6125-1742806800-1742812200@pjwmeters.com
SUMMARY:Property\, Investment\, Construction and Trade Networking Event - Plymouth
DESCRIPTION:
URL:https://pjwmeters.com/event/property-investment-construction-and-trade-networking-event-plymouth-3/
LOCATION:Boringdon Park Golf Club\, 55 Plymbridge Road\, Plymouth\, PL7 4QG\, United Kingdom
END:VEVENT
BEGIN:VEVENT
DTSTART;TZID=Europe/London:20250321T090000
DTEND;TZID=Europe/London:20250321T110000
DTSTAMP:20260424T204014
CREATED:20250118T134649Z
LAST-MODIFIED:20250118T134649Z
UID:6103-1742547600-1742554800@pjwmeters.com
SUMMARY:Property\, Investment\, Construction and Trade Networking Event - Newton Abbot
DESCRIPTION:
URL:https://pjwmeters.com/event/property-investment-construction-and-trade-networking-event-newton-abbot-2/
LOCATION:Dainton Park Golf Club\, Totnes Road\, Ipplepen\, Newton Abbot\, TQ12 5TN\, United Kingdom
END:VEVENT
BEGIN:VEVENT
DTSTART;TZID=Europe/London:20250224T090000
DTEND;TZID=Europe/London:20250224T103000
DTSTAMP:20260424T204014
CREATED:20250118T142128Z
LAST-MODIFIED:20250118T142128Z
UID:6123-1740387600-1740393000@pjwmeters.com
SUMMARY:Property\, Investment\, Construction and Trade Networking Event - Plymouth
DESCRIPTION:
URL:https://pjwmeters.com/event/property-investment-construction-and-trade-networking-event-plymouth-2/
LOCATION:Boringdon Park Golf Club\, 55 Plymbridge Road\, Plymouth\, PL7 4QG\, United Kingdom
END:VEVENT
BEGIN:VEVENT
DTSTART;TZID=Europe/London:20250221T090000
DTEND;TZID=Europe/London:20250221T110000
DTSTAMP:20260424T204014
CREATED:20250118T132435Z
LAST-MODIFIED:20250118T132435Z
UID:6096-1740128400-1740135600@pjwmeters.com
SUMMARY:Property\, Investment\, Construction and Trade Networking Event - Newton Abbot
DESCRIPTION:
URL:https://pjwmeters.com/event/property-investment-construction-and-trade-networking-event-newton-abbot/
LOCATION:Dainton Park Golf Club\, Totnes Road\, Ipplepen\, Newton Abbot\, TQ12 5TN\, United Kingdom
END:VEVENT
BEGIN:VEVENT
DTSTART;TZID=Europe/London:20250127T090000
DTEND;TZID=Europe/London:20250127T103000
DTSTAMP:20260424T204014
CREATED:20250118T125208Z
LAST-MODIFIED:20250118T130716Z
UID:6085-1737968400-1737973800@pjwmeters.com
SUMMARY:Property\, Investment\, Construction and Trade Networking Event- Plymouth
DESCRIPTION:
URL:https://pjwmeters.com/event/property-investment-construction-and-trade-networking-event-plymouth/
LOCATION:Boringdon Park Golf Club\, 55 Plymbridge Road\, Plymouth\, PL7 4QG\, United Kingdom
END:VEVENT
END:VCALENDAR